BEGIN:VCALENDAR
VERSION:2.0
PRODID:-//NetAuktion//NONSGML NetAuktion//SV
METHOD:PUBLISH
BEGIN:VEVENT
UID:20260421T104457-1311818213-netauktion.se
DTSTAMP:20260421T104457
DTSTART:20100222T041300
DTEND:20100222T041600
SUMMARY:Netauktion objekt 0484-001 Auktionspåminnelse
DESCRIPTION:Länk till objektet du var intresserad av: https://staging.netauktion.se/auktion/produkt/varmepump-argo-a8
END:VEVENT
END:VCALENDAR
