BEGIN:VCALENDAR
VERSION:2.0
PRODID:-//NetAuktion//NONSGML NetAuktion//SV
METHOD:PUBLISH
BEGIN:VEVENT
UID:20260421T104357-1352132658-netauktion.se
DTSTAMP:20260421T104357
DTSTART:20101102T011900
DTEND:20101102T012200
SUMMARY:Netauktion objekt 0373-091 Auktionspåminnelse
DESCRIPTION:Länk till objektet du var intresserad av: https://staging.netauktion.se/auktion/produkt/3st-banknote-alarm-nya-i-forpackning
END:VEVENT
END:VCALENDAR
