BEGIN:VCALENDAR
VERSION:2.0
PRODID:-//NetAuktion//NONSGML NetAuktion//SV
METHOD:PUBLISH
BEGIN:VEVENT
UID:20260421T102834-821262706-netauktion.se
DTSTAMP:20260421T102834
DTSTART:20100222T034400
DTEND:20100222T034700
SUMMARY:Netauktion objekt 0484-108 Auktionspåminnelse
DESCRIPTION:Länk till objektet du var intresserad av: https://staging.netauktion.se/auktion/produkt/varmepump-argo-a8-173m-3
END:VEVENT
END:VCALENDAR
