BEGIN:VCALENDAR
VERSION:2.0
PRODID:-//NetAuktion//NONSGML NetAuktion//SV
METHOD:PUBLISH
BEGIN:VEVENT
UID:20260421T103033-1403275885-netauktion.se
DTSTAMP:20260421T103033
DTSTART:20100224T012500
DTEND:20100224T012800
SUMMARY:Netauktion objekt 0485-002 Auktionspåminnelse
DESCRIPTION:Länk till objektet du var intresserad av: https://staging.netauktion.se/auktion/produkt/diverse-begagnade-mobiltelefoner
END:VEVENT
END:VCALENDAR
