BEGIN:VCALENDAR
VERSION:2.0
PRODID:-//NetAuktion//NONSGML NetAuktion//SV
METHOD:PUBLISH
BEGIN:VEVENT
UID:20260421T104358-1250613499-netauktion.se
DTSTAMP:20260421T104358
DTSTART:20081028T013400
DTEND:20081028T013700
SUMMARY:Netauktion objekt 0123-110 Auktionspåminnelse
DESCRIPTION:Länk till objektet du var intresserad av: https://staging.netauktion.se/auktion/produkt/procinema-102x180cm-manuell-hogkontrast
END:VEVENT
END:VCALENDAR
