BEGIN:VCALENDAR
VERSION:2.0
PRODID:-//NetAuktion//NONSGML NetAuktion//SV
METHOD:PUBLISH
BEGIN:VEVENT
UID:20260421T102835-1130575161-netauktion.se
DTSTAMP:20260421T102835
DTSTART:20081028T015600
DTEND:20081028T015900
SUMMARY:Netauktion objekt 0123-127 Auktionspåminnelse
DESCRIPTION:Länk till objektet du var intresserad av: https://staging.netauktion.se/auktion/produkt/akstaplare-bt-lsv100011
END:VEVENT
END:VCALENDAR
