BEGIN:VCALENDAR
VERSION:2.0
PRODID:-//NetAuktion//NONSGML NetAuktion//SV
METHOD:PUBLISH
BEGIN:VEVENT
UID:20260421T104303-2104488907-netauktion.se
DTSTAMP:20260421T104303
DTSTART:20081028T014100
DTEND:20081028T014400
SUMMARY:Netauktion objekt 0123-132 Auktionspåminnelse
DESCRIPTION:Länk till objektet du var intresserad av: https://staging.netauktion.se/auktion/produkt/2st-pallyftare-karra
END:VEVENT
END:VCALENDAR
