BEGIN:VCALENDAR
VERSION:2.0
PRODID:-//NetAuktion//NONSGML NetAuktion//SV
METHOD:PUBLISH
BEGIN:VEVENT
UID:20260421T104324-2023745166-netauktion.se
DTSTAMP:20260421T104324
DTSTART:20081028T014800
DTEND:20081028T015100
SUMMARY:Netauktion objekt 0123-136 Auktionspåminnelse
DESCRIPTION:Länk till objektet du var intresserad av: https://staging.netauktion.se/auktion/produkt/projektor-plus-pj110-80timmar
END:VEVENT
END:VCALENDAR
