BEGIN:VCALENDAR
VERSION:2.0
PRODID:-//NetAuktion//NONSGML NetAuktion//SV
METHOD:PUBLISH
BEGIN:VEVENT
UID:20260421T104453-267078946-netauktion.se
DTSTAMP:20260421T104453
DTSTART:20100223T015000
DTEND:20100223T015300
SUMMARY:Netauktion objekt 0487-404 Auktionspåminnelse
DESCRIPTION:Länk till objektet du var intresserad av: https://staging.netauktion.se/auktion/produkt/4st-langdistans-utomhuskameror-2
END:VEVENT
END:VCALENDAR
