BEGIN:VCALENDAR
VERSION:2.0
PRODID:-//NetAuktion//NONSGML NetAuktion//SV
METHOD:PUBLISH
BEGIN:VEVENT
UID:20260421T102804-770209122-netauktion.se
DTSTAMP:20260421T102804
DTSTART:20081028T015200
DTEND:20081028T015500
SUMMARY:Netauktion objekt 0123-143 Auktionspåminnelse
DESCRIPTION:Länk till objektet du var intresserad av: https://staging.netauktion.se/auktion/produkt/digital-dokumentkamera-casio-multi-pj-yc-400
END:VEVENT
END:VCALENDAR
