BEGIN:VCALENDAR
VERSION:2.0
PRODID:-//NetAuktion//NONSGML NetAuktion//SV
METHOD:PUBLISH
BEGIN:VEVENT
UID:20260421T102833-463515877-netauktion.se
DTSTAMP:20260421T102833
DTSTART:20081028T020300
DTEND:20081028T020600
SUMMARY:Netauktion objekt 0123-156 Auktionspåminnelse
DESCRIPTION:Länk till objektet du var intresserad av: https://staging.netauktion.se/auktion/produkt/4st-konferenstelefoner
END:VEVENT
END:VCALENDAR
