BEGIN:VCALENDAR
VERSION:2.0
PRODID:-//NetAuktion//NONSGML NetAuktion//SV
METHOD:PUBLISH
BEGIN:VEVENT
UID:20260421T104601-2106173097-netauktion.se
DTSTAMP:20260421T104601
DTSTART:20100226T055700
DTEND:20100226T060000
SUMMARY:Netauktion objekt 0484-288 Auktionspåminnelse
DESCRIPTION:Länk till objektet du var intresserad av: https://staging.netauktion.se/auktion/produkt/ny-vacuumpump-med-manometerstall-ej-komplett
END:VEVENT
END:VCALENDAR
