BEGIN:VCALENDAR
VERSION:2.0
PRODID:-//NetAuktion//NONSGML NetAuktion//SV
METHOD:PUBLISH
BEGIN:VEVENT
UID:20260421T104319-805421086-netauktion.se
DTSTAMP:20260421T104319
DTSTART:20081028T022700
DTEND:20081028T023000
SUMMARY:Netauktion objekt 0123-174 Auktionspåminnelse
DESCRIPTION:Länk till objektet du var intresserad av: https://staging.netauktion.se/auktion/produkt/64st-kontorsstolar
END:VEVENT
END:VCALENDAR
