BEGIN:VCALENDAR
VERSION:2.0
PRODID:-//NetAuktion//NONSGML NetAuktion//SV
METHOD:PUBLISH
BEGIN:VEVENT
UID:20260421T104529-1869035925-netauktion.se
DTSTAMP:20260421T104529
DTSTART:20100830T032300
DTEND:20100830T032600
SUMMARY:Netauktion objekt 0466-112 Auktionspåminnelse
DESCRIPTION:Länk till objektet du var intresserad av: https://staging.netauktion.se/auktion/produkt/3st-oljemalningar-okand-konstnar-4
END:VEVENT
END:VCALENDAR
