BEGIN:VCALENDAR
VERSION:2.0
PRODID:-//NetAuktion//NONSGML NetAuktion//SV
METHOD:PUBLISH
BEGIN:VEVENT
UID:20260421T102803-1875784426-netauktion.se
DTSTAMP:20260421T102803
DTSTART:20081028T023900
DTEND:20081028T024200
SUMMARY:Netauktion objekt 0123-188 Auktionspåminnelse
DESCRIPTION:Länk till objektet du var intresserad av: https://staging.netauktion.se/auktion/produkt/whiteboard-med-utskrift-plus-boardfax-bf030w
END:VEVENT
END:VCALENDAR
