BEGIN:VCALENDAR
VERSION:2.0
PRODID:-//NetAuktion//NONSGML NetAuktion//SV
METHOD:PUBLISH
BEGIN:VEVENT
UID:20260421T104317-1536531814-netauktion.se
DTSTAMP:20260421T104317
DTSTART:20081028T024100
DTEND:20081028T024400
SUMMARY:Netauktion objekt 0123-190 Auktionspåminnelse
DESCRIPTION:Länk till objektet du var intresserad av: https://staging.netauktion.se/auktion/produkt/resevdelar-for-projektorer
END:VEVENT
END:VCALENDAR
