BEGIN:VCALENDAR
VERSION:2.0
PRODID:-//NetAuktion//NONSGML NetAuktion//SV
METHOD:PUBLISH
BEGIN:VEVENT
UID:20260421T104455-608164732-netauktion.se
DTSTAMP:20260421T104455
DTSTART:20100225T145700
DTEND:20100225T150000
SUMMARY:Netauktion objekt 0481-163 Auktionspåminnelse
DESCRIPTION:Länk till objektet du var intresserad av: https://staging.netauktion.se/auktion/produkt/taklampa-6
END:VEVENT
END:VCALENDAR
