BEGIN:VCALENDAR
VERSION:2.0
PRODID:-//NetAuktion//NONSGML NetAuktion//SV
METHOD:PUBLISH
BEGIN:VEVENT
UID:20260421T104318-555513836-netauktion.se
DTSTAMP:20260421T104318
DTSTART:20100331T015000
DTEND:20100331T015300
SUMMARY:Netauktion objekt 0469-112 Auktionspåminnelse
DESCRIPTION:Länk till objektet du var intresserad av: https://staging.netauktion.se/auktion/produkt/ny-hjc-cl-mx-strlxl
END:VEVENT
END:VCALENDAR
