BEGIN:VCALENDAR
VERSION:2.0
PRODID:-//NetAuktion//NONSGML NetAuktion//SV
METHOD:PUBLISH
BEGIN:VEVENT
UID:20260421T104429-300389121-netauktion.se
DTSTAMP:20260421T104429
DTSTART:20100331T015100
DTEND:20100331T015400
SUMMARY:Netauktion objekt 0469-116 Auktionspåminnelse
DESCRIPTION:Länk till objektet du var intresserad av: https://staging.netauktion.se/auktion/produkt/ny-hjc-is-16-strlxl
END:VEVENT
END:VCALENDAR
