BEGIN:VCALENDAR
VERSION:2.0
PRODID:-//NetAuktion//NONSGML NetAuktion//SV
METHOD:PUBLISH
BEGIN:VEVENT
UID:20260421T104357-548247982-netauktion.se
DTSTAMP:20260421T104357
DTSTART:20100331T014900
DTEND:20100331T015200
SUMMARY:Netauktion objekt 0469-133 Auktionspåminnelse
DESCRIPTION:Länk till objektet du var intresserad av: https://staging.netauktion.se/auktion/produkt/ny-hjc-cl-mx-strlxxl
END:VEVENT
END:VCALENDAR
