BEGIN:VCALENDAR
VERSION:2.0
PRODID:-//NetAuktion//NONSGML NetAuktion//SV
METHOD:PUBLISH
BEGIN:VEVENT
UID:20260425T134353-1086772361-netauktion.se
DTSTAMP:20260425T134353
DTSTART:20090123T011900
DTEND:20090123T012200
SUMMARY:Netauktion objekt 0121-001 Auktionspåminnelse
DESCRIPTION:Länk till objektet du var intresserad av: https://staging.netauktion.se/auktion/produkt/kassaregister-3
END:VEVENT
END:VCALENDAR
