BEGIN:VCALENDAR
VERSION:2.0
PRODID:-//NetAuktion//NONSGML NetAuktion//SV
METHOD:PUBLISH
BEGIN:VEVENT
UID:20260421T104426-994412586-netauktion.se
DTSTAMP:20260421T104426
DTSTART:20100331T014800
DTEND:20100331T015100
SUMMARY:Netauktion objekt 0469-142 Auktionspåminnelse
DESCRIPTION:Länk till objektet du var intresserad av: https://staging.netauktion.se/auktion/produkt/ny-hjc-cs-12n-strlxl-5
END:VEVENT
END:VCALENDAR
