BEGIN:VCALENDAR
VERSION:2.0
PRODID:-//NetAuktion//NONSGML NetAuktion//SV
METHOD:PUBLISH
BEGIN:VEVENT
UID:20260421T104357-96344448-netauktion.se
DTSTAMP:20260421T104357
DTSTART:20101102T013400
DTEND:20101102T013700
SUMMARY:Netauktion objekt 0409-324 Auktionspåminnelse
DESCRIPTION:Länk till objektet du var intresserad av: https://staging.netauktion.se/auktion/produkt/damm-och-vatsugare-foma-4
END:VEVENT
END:VCALENDAR
