BEGIN:VCALENDAR
VERSION:2.0
PRODID:-//NetAuktion//NONSGML NetAuktion//SV
METHOD:PUBLISH
BEGIN:VEVENT
UID:20260421T104255-1554652499-netauktion.se
DTSTAMP:20260421T104255
DTSTART:20081114T031300
DTEND:20081114T031600
SUMMARY:Netauktion objekt 0134-074 Auktionspåminnelse
DESCRIPTION:Länk till objektet du var intresserad av: https://staging.netauktion.se/auktion/produkt/kosystem-for-butik
END:VEVENT
END:VCALENDAR
