BEGIN:VCALENDAR
VERSION:2.0
PRODID:-//NetAuktion//NONSGML NetAuktion//SV
METHOD:PUBLISH
BEGIN:VEVENT
UID:20260421T104530-143769802-netauktion.se
DTSTAMP:20260421T104530
DTSTART:20100430T015900
DTEND:20100430T020200
SUMMARY:Netauktion objekt 0519-096 Auktionspåminnelse
DESCRIPTION:Länk till objektet du var intresserad av: https://staging.netauktion.se/auktion/produkt/300-st-kaffekapslar-for-kaffemaskin-ristretto-9
END:VEVENT
END:VCALENDAR
