BEGIN:VCALENDAR
VERSION:2.0
PRODID:-//NetAuktion//NONSGML NetAuktion//SV
METHOD:PUBLISH
BEGIN:VEVENT
UID:20260421T104432-2096903304-netauktion.se
DTSTAMP:20260421T104432
DTSTART:20100430T014700
DTEND:20100430T015000
SUMMARY:Netauktion objekt 0519-107 Auktionspåminnelse
DESCRIPTION:Länk till objektet du var intresserad av: https://staging.netauktion.se/auktion/produkt/300-st-kaffekapslar-for-kaffemaskin-espresso-8-4
END:VEVENT
END:VCALENDAR
