BEGIN:VCALENDAR
VERSION:2.0
PRODID:-//NetAuktion//NONSGML NetAuktion//SV
METHOD:PUBLISH
BEGIN:VEVENT
UID:20260421T102935-7042450-netauktion.se
DTSTAMP:20260421T102935
DTSTART:20100430T015400
DTEND:20100430T015700
SUMMARY:Netauktion objekt 0519-116 Auktionspåminnelse
DESCRIPTION:Länk till objektet du var intresserad av: https://staging.netauktion.se/auktion/produkt/36st-cappucinokoppar-med-fat-4-6
END:VEVENT
END:VCALENDAR
