BEGIN:VCALENDAR
VERSION:2.0
PRODID:-//NetAuktion//NONSGML NetAuktion//SV
METHOD:PUBLISH
BEGIN:VEVENT
UID:20260421T104444-400641400-netauktion.se
DTSTAMP:20260421T104444
DTSTART:20100430T023700
DTEND:20100430T024000
SUMMARY:Netauktion objekt 0539-004 Auktionspåminnelse
DESCRIPTION:Länk till objektet du var intresserad av: https://staging.netauktion.se/auktion/produkt/frankeringsmaskin-4
END:VEVENT
END:VCALENDAR
