BEGIN:VCALENDAR
VERSION:2.0
PRODID:-//NetAuktion//NONSGML NetAuktion//SV
METHOD:PUBLISH
BEGIN:VEVENT
UID:20260421T102834-579356793-netauktion.se
DTSTAMP:20260421T102834
DTSTART:20100430T025400
DTEND:20100430T025700
SUMMARY:Netauktion objekt 0539-018 Auktionspåminnelse
DESCRIPTION:Länk till objektet du var intresserad av: https://staging.netauktion.se/auktion/produkt/taklampor-13
END:VEVENT
END:VCALENDAR
