BEGIN:VCALENDAR
VERSION:2.0
PRODID:-//NetAuktion//NONSGML NetAuktion//SV
METHOD:PUBLISH
BEGIN:VEVENT
UID:20260421T103032-1630256855-netauktion.se
DTSTAMP:20260421T103032
DTSTART:20100430T023600
DTEND:20100430T023900
SUMMARY:Netauktion objekt 0539-034 Auktionspåminnelse
DESCRIPTION:Länk till objektet du var intresserad av: https://staging.netauktion.se/auktion/produkt/ca-100st-nackkuddar
END:VEVENT
END:VCALENDAR
