BEGIN:VCALENDAR
VERSION:2.0
PRODID:-//NetAuktion//NONSGML NetAuktion//SV
METHOD:PUBLISH
BEGIN:VEVENT
UID:20260425T134252-2108346537-netauktion.se
DTSTAMP:20260425T134252
DTSTART:20090123T013300
DTEND:20090123T013600
SUMMARY:Netauktion objekt 0125-034 Auktionspåminnelse
DESCRIPTION:Länk till objektet du var intresserad av: https://staging.netauktion.se/auktion/produkt/barstol-pall
END:VEVENT
END:VCALENDAR
