BEGIN:VCALENDAR
VERSION:2.0
PRODID:-//NetAuktion//NONSGML NetAuktion//SV
METHOD:PUBLISH
BEGIN:VEVENT
UID:20260421T102641-1193338423-netauktion.se
DTSTAMP:20260421T102641
DTSTART:20081128T023300
DTEND:20081128T023600
SUMMARY:Netauktion objekt 0125-036 Auktionspåminnelse
DESCRIPTION:Länk till objektet du var intresserad av: https://staging.netauktion.se/auktion/produkt/golvlampa-kokong-vit
END:VEVENT
END:VCALENDAR
