BEGIN:VCALENDAR
VERSION:2.0
PRODID:-//NetAuktion//NONSGML NetAuktion//SV
METHOD:PUBLISH
BEGIN:VEVENT
UID:20260421T104254-1790644879-netauktion.se
DTSTAMP:20260421T104254
DTSTART:20081128T022500
DTEND:20081128T022800
SUMMARY:Netauktion objekt 0125-037 Auktionspåminnelse
DESCRIPTION:Länk till objektet du var intresserad av: https://staging.netauktion.se/auktion/produkt/taklampa-kokong-svart
END:VEVENT
END:VCALENDAR
