BEGIN:VCALENDAR
VERSION:2.0
PRODID:-//NetAuktion//NONSGML NetAuktion//SV
METHOD:PUBLISH
BEGIN:VEVENT
UID:20260421T104254-1334167161-netauktion.se
DTSTAMP:20260421T104254
DTSTART:20081128T022300
DTEND:20081128T022600
SUMMARY:Netauktion objekt 0125-041 Auktionspåminnelse
DESCRIPTION:Länk till objektet du var intresserad av: https://staging.netauktion.se/auktion/produkt/golvlampa-coconut-ball
END:VEVENT
END:VCALENDAR
