BEGIN:VCALENDAR
VERSION:2.0
PRODID:-//NetAuktion//NONSGML NetAuktion//SV
METHOD:PUBLISH
BEGIN:VEVENT
UID:20260421T102636-119690048-netauktion.se
DTSTAMP:20260421T102636
DTSTART:20100531T013200
DTEND:20100531T013500
SUMMARY:Netauktion objekt 0556-002 Auktionspåminnelse
DESCRIPTION:Länk till objektet du var intresserad av: https://staging.netauktion.se/auktion/produkt/spa-california
END:VEVENT
END:VCALENDAR
