BEGIN:VCALENDAR
VERSION:2.0
PRODID:-//NetAuktion//NONSGML NetAuktion//SV
METHOD:PUBLISH
BEGIN:VEVENT
UID:20260421T104357-1690613967-netauktion.se
DTSTAMP:20260421T104357
DTSTART:20081128T023100
DTEND:20081128T023400
SUMMARY:Netauktion objekt 0125-049 Auktionspåminnelse
DESCRIPTION:Länk till objektet du var intresserad av: https://staging.netauktion.se/auktion/produkt/1st-fatolj-kylie-minogue
END:VEVENT
END:VCALENDAR
