BEGIN:VCALENDAR
VERSION:2.0
PRODID:-//NetAuktion//NONSGML NetAuktion//SV
METHOD:PUBLISH
BEGIN:VEVENT
UID:20260421T104451-820396005-netauktion.se
DTSTAMP:20260421T104451
DTSTART:20100531T010700
DTEND:20100531T011000
SUMMARY:Netauktion objekt 0559-001 Auktionspåminnelse
DESCRIPTION:Länk till objektet du var intresserad av: https://staging.netauktion.se/auktion/produkt/kassaregister-national
END:VEVENT
END:VCALENDAR
