BEGIN:VCALENDAR
VERSION:2.0
PRODID:-//NetAuktion//NONSGML NetAuktion//SV
METHOD:PUBLISH
BEGIN:VEVENT
UID:20260421T102804-339566240-netauktion.se
DTSTAMP:20260421T102804
DTSTART:20090227T010500
DTEND:20090227T010800
SUMMARY:Netauktion objekt 0124-005 Auktionspåminnelse
DESCRIPTION:Länk till objektet du var intresserad av: https://staging.netauktion.se/auktion/produkt/handtuftad-designmatta-180x130cm
END:VEVENT
END:VCALENDAR
