BEGIN:VCALENDAR
VERSION:2.0
PRODID:-//NetAuktion//NONSGML NetAuktion//SV
METHOD:PUBLISH
BEGIN:VEVENT
UID:20260421T104318-1732541452-netauktion.se
DTSTAMP:20260421T104318
DTSTART:20100830T033800
DTEND:20100830T034100
SUMMARY:Netauktion objekt 0557-009 Auktionspåminnelse
DESCRIPTION:Länk till objektet du var intresserad av: https://staging.netauktion.se/auktion/produkt/nya-tjejskor-36-par
END:VEVENT
END:VCALENDAR
