BEGIN:VCALENDAR
VERSION:2.0
PRODID:-//NetAuktion//NONSGML NetAuktion//SV
METHOD:PUBLISH
BEGIN:VEVENT
UID:20260421T104430-780151849-netauktion.se
DTSTAMP:20260421T104430
DTSTART:20081128T024000
DTEND:20081128T024300
SUMMARY:Netauktion objekt 0124-007 Auktionspåminnelse
DESCRIPTION:Länk till objektet du var intresserad av: https://staging.netauktion.se/auktion/produkt/handvavd-jutematta-170x240cm-2
END:VEVENT
END:VCALENDAR
