BEGIN:VCALENDAR
VERSION:2.0
PRODID:-//NetAuktion//NONSGML NetAuktion//SV
METHOD:PUBLISH
BEGIN:VEVENT
UID:20260421T104317-692457586-netauktion.se
DTSTAMP:20260421T104317
DTSTART:20081128T030100
DTEND:20081128T030400
SUMMARY:Netauktion objekt 0124-016 Auktionspåminnelse
DESCRIPTION:Länk till objektet du var intresserad av: https://staging.netauktion.se/auktion/produkt/handtuftad-bomerangmatta-250x370cm
END:VEVENT
END:VCALENDAR
