BEGIN:VCALENDAR
VERSION:2.0
PRODID:-//NetAuktion//NONSGML NetAuktion//SV
METHOD:PUBLISH
BEGIN:VEVENT
UID:20260421T104324-1546361278-netauktion.se
DTSTAMP:20260421T104324
DTSTART:20081128T025600
DTEND:20081128T025900
SUMMARY:Netauktion objekt 0124-020 Auktionspåminnelse
DESCRIPTION:Länk till objektet du var intresserad av: https://staging.netauktion.se/auktion/produkt/3st-handtuftade-mattor-120x120cm
END:VEVENT
END:VCALENDAR
