BEGIN:VCALENDAR
VERSION:2.0
PRODID:-//NetAuktion//NONSGML NetAuktion//SV
METHOD:PUBLISH
BEGIN:VEVENT
UID:20260421T104305-1067035217-netauktion.se
DTSTAMP:20260421T104305
DTSTART:20081128T025800
DTEND:20081128T030100
SUMMARY:Netauktion objekt 0124-025 Auktionspåminnelse
DESCRIPTION:Länk till objektet du var intresserad av: https://staging.netauktion.se/auktion/produkt/handtuftad-designmatta-160x160cm
END:VEVENT
END:VCALENDAR
