BEGIN:VCALENDAR
VERSION:2.0
PRODID:-//NetAuktion//NONSGML NetAuktion//SV
METHOD:PUBLISH
BEGIN:VEVENT
UID:20260421T104303-1362706504-netauktion.se
DTSTAMP:20260421T104303
DTSTART:20100531T005800
DTEND:20100531T010100
SUMMARY:Netauktion objekt 0433-003 Auktionspåminnelse
DESCRIPTION:Länk till objektet du var intresserad av: https://staging.netauktion.se/auktion/produkt/open-minds-vas-av-ulrica-hydman-vallien
END:VEVENT
END:VCALENDAR
