BEGIN:VCALENDAR
VERSION:2.0
PRODID:-//NetAuktion//NONSGML NetAuktion//SV
METHOD:PUBLISH
BEGIN:VEVENT
UID:20260421T104534-340553334-netauktion.se
DTSTAMP:20260421T104534
DTSTART:20100531T014100
DTEND:20100531T014400
SUMMARY:Netauktion objekt 0556-008 Auktionspåminnelse
DESCRIPTION:Länk till objektet du var intresserad av: https://staging.netauktion.se/auktion/produkt/automatisk-grasklippare-omfsgn-027
END:VEVENT
END:VCALENDAR
