BEGIN:VCALENDAR
VERSION:2.0
PRODID:-//NetAuktion//NONSGML NetAuktion//SV
METHOD:PUBLISH
BEGIN:VEVENT
UID:20260421T103004-116871517-netauktion.se
DTSTAMP:20260421T103004
DTSTART:20100531T014200
DTEND:20100531T014500
SUMMARY:Netauktion objekt 0556-017 Auktionspåminnelse
DESCRIPTION:Länk till objektet du var intresserad av: https://staging.netauktion.se/auktion/produkt/dusch-med-angbastu-8030
END:VEVENT
END:VCALENDAR
