BEGIN:VCALENDAR
VERSION:2.0
PRODID:-//NetAuktion//NONSGML NetAuktion//SV
METHOD:PUBLISH
BEGIN:VEVENT
UID:20260421T104600-850818575-netauktion.se
DTSTAMP:20260421T104600
DTSTART:20100531T020100
DTEND:20100531T020400
SUMMARY:Netauktion objekt 0392-133 Auktionspåminnelse
DESCRIPTION:Länk till objektet du var intresserad av: https://staging.netauktion.se/auktion/produkt/varmepump-foma-for-160m-154
END:VEVENT
END:VCALENDAR
