BEGIN:VCALENDAR
VERSION:2.0
PRODID:-//NetAuktion//NONSGML NetAuktion//SV
METHOD:PUBLISH
BEGIN:VEVENT
UID:20260421T104254-1923239815-netauktion.se
DTSTAMP:20260421T104254
DTSTART:20081128T030700
DTEND:20081128T031000
SUMMARY:Netauktion objekt 0125-067 Auktionspåminnelse
DESCRIPTION:Länk till objektet du var intresserad av: https://staging.netauktion.se/auktion/produkt/taklampa-kokong-vit
END:VEVENT
END:VCALENDAR
