BEGIN:VCALENDAR
VERSION:2.0
PRODID:-//NetAuktion//NONSGML NetAuktion//SV
METHOD:PUBLISH
BEGIN:VEVENT
UID:20260421T104530-1910383543-netauktion.se
DTSTAMP:20260421T104530
DTSTART:20100531T021900
DTEND:20100531T022200
SUMMARY:Netauktion objekt 0392-137 Auktionspåminnelse
DESCRIPTION:Länk till objektet du var intresserad av: https://staging.netauktion.se/auktion/produkt/varmepump-foma-for-160m-158
END:VEVENT
END:VCALENDAR
