BEGIN:VCALENDAR
VERSION:2.0
PRODID:-//NetAuktion//NONSGML NetAuktion//SV
METHOD:PUBLISH
BEGIN:VEVENT
UID:20260421T104450-2024875910-netauktion.se
DTSTAMP:20260421T104450
DTSTART:20100531T021100
DTEND:20100531T021400
SUMMARY:Netauktion objekt 0394-133 Auktionspåminnelse
DESCRIPTION:Länk till objektet du var intresserad av: https://staging.netauktion.se/auktion/produkt/foma-varmepump-for-200m-97
END:VEVENT
END:VCALENDAR
